BEGIN:VCALENDAR
VERSION:2.0
PRODID:-//North Georgia OPEN - ECPv6.15.20//NONSGML v1.0//EN
CALSCALE:GREGORIAN
METHOD:PUBLISH
X-WR-CALNAME:North Georgia OPEN
X-ORIGINAL-URL:https://northgeorgiaopen.net
X-WR-CALDESC:Events for North Georgia OPEN
REFRESH-INTERVAL;VALUE=DURATION:PT1H
X-Robots-Tag:noindex
X-PUBLISHED-TTL:PT1H
BEGIN:VTIMEZONE
TZID:America/New_York
BEGIN:DAYLIGHT
TZOFFSETFROM:-0500
TZOFFSETTO:-0400
TZNAME:EDT
DTSTART:20240310T070000
END:DAYLIGHT
BEGIN:STANDARD
TZOFFSETFROM:-0400
TZOFFSETTO:-0500
TZNAME:EST
DTSTART:20241103T060000
END:STANDARD
BEGIN:DAYLIGHT
TZOFFSETFROM:-0500
TZOFFSETTO:-0400
TZNAME:EDT
DTSTART:20250309T070000
END:DAYLIGHT
BEGIN:STANDARD
TZOFFSETFROM:-0400
TZOFFSETTO:-0500
TZNAME:EST
DTSTART:20251102T060000
END:STANDARD
BEGIN:DAYLIGHT
TZOFFSETFROM:-0500
TZOFFSETTO:-0400
TZNAME:EDT
DTSTART:20260308T070000
END:DAYLIGHT
BEGIN:STANDARD
TZOFFSETFROM:-0400
TZOFFSETTO:-0500
TZNAME:EST
DTSTART:20261101T060000
END:STANDARD
BEGIN:DAYLIGHT
TZOFFSETFROM:-0500
TZOFFSETTO:-0400
TZNAME:EDT
DTSTART:20270314T070000
END:DAYLIGHT
BEGIN:STANDARD
TZOFFSETFROM:-0400
TZOFFSETTO:-0500
TZNAME:EST
DTSTART:20271107T060000
END:STANDARD
END:VTIMEZONE
BEGIN:VEVENT
DTSTART;TZID=America/New_York:20260122T190000
DTEND;TZID=America/New_York:20260122T203000
DTSTAMP:20260420T044517
CREATED:20241031T165029Z
LAST-MODIFIED:20241031T165029Z
UID:10000125-1769108400-1769113800@northgeorgiaopen.net
SUMMARY:Y12SR - The Yoga of 12-Step Recovery
DESCRIPTION:  \nFor information: brightspiritswellness@outlook.com
URL:https://northgeorgiaopen.net/event/y12sr-the-yoga-of-12-step-recovery/2026-01-22/
LOCATION:Rivers of Peace Recovery Community\, 166 Josh Hall Rd #4\, Blue Ridge\, GA\, 30513\, United States
ORGANIZER;CN="Rivers of Peace Recovery Community":MAILTO:Brightspiritswellness@outlook.com
END:VEVENT
BEGIN:VEVENT
DTSTART;TZID=America/New_York:20260115T190000
DTEND;TZID=America/New_York:20260115T203000
DTSTAMP:20260420T044517
CREATED:20241031T165029Z
LAST-MODIFIED:20241031T165029Z
UID:10000124-1768503600-1768509000@northgeorgiaopen.net
SUMMARY:Y12SR - The Yoga of 12-Step Recovery
DESCRIPTION:  \nFor information: brightspiritswellness@outlook.com
URL:https://northgeorgiaopen.net/event/y12sr-the-yoga-of-12-step-recovery/2026-01-15/
LOCATION:Rivers of Peace Recovery Community\, 166 Josh Hall Rd #4\, Blue Ridge\, GA\, 30513\, United States
ORGANIZER;CN="Rivers of Peace Recovery Community":MAILTO:Brightspiritswellness@outlook.com
END:VEVENT
BEGIN:VEVENT
DTSTART;TZID=America/New_York:20260108T190000
DTEND;TZID=America/New_York:20260108T203000
DTSTAMP:20260420T044517
CREATED:20241031T165029Z
LAST-MODIFIED:20241031T165029Z
UID:10000123-1767898800-1767904200@northgeorgiaopen.net
SUMMARY:Y12SR - The Yoga of 12-Step Recovery
DESCRIPTION:  \nFor information: brightspiritswellness@outlook.com
URL:https://northgeorgiaopen.net/event/y12sr-the-yoga-of-12-step-recovery/2026-01-08/
LOCATION:Rivers of Peace Recovery Community\, 166 Josh Hall Rd #4\, Blue Ridge\, GA\, 30513\, United States
ORGANIZER;CN="Rivers of Peace Recovery Community":MAILTO:Brightspiritswellness@outlook.com
END:VEVENT
BEGIN:VEVENT
DTSTART;TZID=America/New_York:20260101T190000
DTEND;TZID=America/New_York:20260101T203000
DTSTAMP:20260420T044517
CREATED:20241031T165029Z
LAST-MODIFIED:20241031T165029Z
UID:10000122-1767294000-1767299400@northgeorgiaopen.net
SUMMARY:Y12SR - The Yoga of 12-Step Recovery
DESCRIPTION:  \nFor information: brightspiritswellness@outlook.com
URL:https://northgeorgiaopen.net/event/y12sr-the-yoga-of-12-step-recovery/2026-01-01/
LOCATION:Rivers of Peace Recovery Community\, 166 Josh Hall Rd #4\, Blue Ridge\, GA\, 30513\, United States
ORGANIZER;CN="Rivers of Peace Recovery Community":MAILTO:Brightspiritswellness@outlook.com
END:VEVENT
BEGIN:VEVENT
DTSTART;TZID=America/New_York:20251225T190000
DTEND;TZID=America/New_York:20251225T203000
DTSTAMP:20260420T044517
CREATED:20241031T165029Z
LAST-MODIFIED:20241031T165029Z
UID:10000121-1766689200-1766694600@northgeorgiaopen.net
SUMMARY:Y12SR - The Yoga of 12-Step Recovery
DESCRIPTION:  \nFor information: brightspiritswellness@outlook.com
URL:https://northgeorgiaopen.net/event/y12sr-the-yoga-of-12-step-recovery/2025-12-25/
LOCATION:Rivers of Peace Recovery Community\, 166 Josh Hall Rd #4\, Blue Ridge\, GA\, 30513\, United States
ORGANIZER;CN="Rivers of Peace Recovery Community":MAILTO:Brightspiritswellness@outlook.com
END:VEVENT
BEGIN:VEVENT
DTSTART;TZID=America/New_York:20251218T190000
DTEND;TZID=America/New_York:20251218T203000
DTSTAMP:20260420T044517
CREATED:20241031T165029Z
LAST-MODIFIED:20241031T165029Z
UID:10000120-1766084400-1766089800@northgeorgiaopen.net
SUMMARY:Y12SR - The Yoga of 12-Step Recovery
DESCRIPTION:  \nFor information: brightspiritswellness@outlook.com
URL:https://northgeorgiaopen.net/event/y12sr-the-yoga-of-12-step-recovery/2025-12-18/
LOCATION:Rivers of Peace Recovery Community\, 166 Josh Hall Rd #4\, Blue Ridge\, GA\, 30513\, United States
ORGANIZER;CN="Rivers of Peace Recovery Community":MAILTO:Brightspiritswellness@outlook.com
END:VEVENT
BEGIN:VEVENT
DTSTART;TZID=America/New_York:20251211T190000
DTEND;TZID=America/New_York:20251211T203000
DTSTAMP:20260420T044517
CREATED:20241031T165029Z
LAST-MODIFIED:20241031T165029Z
UID:10000119-1765479600-1765485000@northgeorgiaopen.net
SUMMARY:Y12SR - The Yoga of 12-Step Recovery
DESCRIPTION:  \nFor information: brightspiritswellness@outlook.com
URL:https://northgeorgiaopen.net/event/y12sr-the-yoga-of-12-step-recovery/2025-12-11/
LOCATION:Rivers of Peace Recovery Community\, 166 Josh Hall Rd #4\, Blue Ridge\, GA\, 30513\, United States
ORGANIZER;CN="Rivers of Peace Recovery Community":MAILTO:Brightspiritswellness@outlook.com
END:VEVENT
BEGIN:VEVENT
DTSTART;TZID=America/New_York:20251204T190000
DTEND;TZID=America/New_York:20251204T203000
DTSTAMP:20260420T044517
CREATED:20241031T165029Z
LAST-MODIFIED:20241031T165029Z
UID:10000118-1764874800-1764880200@northgeorgiaopen.net
SUMMARY:Y12SR - The Yoga of 12-Step Recovery
DESCRIPTION:  \nFor information: brightspiritswellness@outlook.com
URL:https://northgeorgiaopen.net/event/y12sr-the-yoga-of-12-step-recovery/2025-12-04/
LOCATION:Rivers of Peace Recovery Community\, 166 Josh Hall Rd #4\, Blue Ridge\, GA\, 30513\, United States
ORGANIZER;CN="Rivers of Peace Recovery Community":MAILTO:Brightspiritswellness@outlook.com
END:VEVENT
BEGIN:VEVENT
DTSTART;TZID=America/New_York:20251127T190000
DTEND;TZID=America/New_York:20251127T203000
DTSTAMP:20260420T044517
CREATED:20241031T165029Z
LAST-MODIFIED:20241031T165029Z
UID:10000117-1764270000-1764275400@northgeorgiaopen.net
SUMMARY:Y12SR - The Yoga of 12-Step Recovery
DESCRIPTION:  \nFor information: brightspiritswellness@outlook.com
URL:https://northgeorgiaopen.net/event/y12sr-the-yoga-of-12-step-recovery/2025-11-27/
LOCATION:Rivers of Peace Recovery Community\, 166 Josh Hall Rd #4\, Blue Ridge\, GA\, 30513\, United States
ORGANIZER;CN="Rivers of Peace Recovery Community":MAILTO:Brightspiritswellness@outlook.com
END:VEVENT
BEGIN:VEVENT
DTSTART;TZID=America/New_York:20251120T190000
DTEND;TZID=America/New_York:20251120T203000
DTSTAMP:20260420T044517
CREATED:20241031T165029Z
LAST-MODIFIED:20241031T165029Z
UID:10000116-1763665200-1763670600@northgeorgiaopen.net
SUMMARY:Y12SR - The Yoga of 12-Step Recovery
DESCRIPTION:  \nFor information: brightspiritswellness@outlook.com
URL:https://northgeorgiaopen.net/event/y12sr-the-yoga-of-12-step-recovery/2025-11-20/
LOCATION:Rivers of Peace Recovery Community\, 166 Josh Hall Rd #4\, Blue Ridge\, GA\, 30513\, United States
ORGANIZER;CN="Rivers of Peace Recovery Community":MAILTO:Brightspiritswellness@outlook.com
END:VEVENT
BEGIN:VEVENT
DTSTART;TZID=America/New_York:20251113T190000
DTEND;TZID=America/New_York:20251113T203000
DTSTAMP:20260420T044517
CREATED:20241031T165029Z
LAST-MODIFIED:20241031T165029Z
UID:10000115-1763060400-1763065800@northgeorgiaopen.net
SUMMARY:Y12SR - The Yoga of 12-Step Recovery
DESCRIPTION:  \nFor information: brightspiritswellness@outlook.com
URL:https://northgeorgiaopen.net/event/y12sr-the-yoga-of-12-step-recovery/2025-11-13/
LOCATION:Rivers of Peace Recovery Community\, 166 Josh Hall Rd #4\, Blue Ridge\, GA\, 30513\, United States
ORGANIZER;CN="Rivers of Peace Recovery Community":MAILTO:Brightspiritswellness@outlook.com
END:VEVENT
BEGIN:VEVENT
DTSTART;TZID=America/New_York:20251106T190000
DTEND;TZID=America/New_York:20251106T203000
DTSTAMP:20260420T044517
CREATED:20241031T165029Z
LAST-MODIFIED:20241031T165029Z
UID:10000114-1762455600-1762461000@northgeorgiaopen.net
SUMMARY:Y12SR - The Yoga of 12-Step Recovery
DESCRIPTION:  \nFor information: brightspiritswellness@outlook.com
URL:https://northgeorgiaopen.net/event/y12sr-the-yoga-of-12-step-recovery/2025-11-06/
LOCATION:Rivers of Peace Recovery Community\, 166 Josh Hall Rd #4\, Blue Ridge\, GA\, 30513\, United States
ORGANIZER;CN="Rivers of Peace Recovery Community":MAILTO:Brightspiritswellness@outlook.com
END:VEVENT
BEGIN:VEVENT
DTSTART;TZID=America/New_York:20251030T190000
DTEND;TZID=America/New_York:20251030T203000
DTSTAMP:20260420T044517
CREATED:20241031T165029Z
LAST-MODIFIED:20241031T165029Z
UID:10000113-1761850800-1761856200@northgeorgiaopen.net
SUMMARY:Y12SR - The Yoga of 12-Step Recovery
DESCRIPTION:  \nFor information: brightspiritswellness@outlook.com
URL:https://northgeorgiaopen.net/event/y12sr-the-yoga-of-12-step-recovery/2025-10-30/
LOCATION:Rivers of Peace Recovery Community\, 166 Josh Hall Rd #4\, Blue Ridge\, GA\, 30513\, United States
ORGANIZER;CN="Rivers of Peace Recovery Community":MAILTO:Brightspiritswellness@outlook.com
END:VEVENT
BEGIN:VEVENT
DTSTART;TZID=America/New_York:20251023T190000
DTEND;TZID=America/New_York:20251023T203000
DTSTAMP:20260420T044517
CREATED:20241031T165029Z
LAST-MODIFIED:20241031T165029Z
UID:10000112-1761246000-1761251400@northgeorgiaopen.net
SUMMARY:Y12SR - The Yoga of 12-Step Recovery
DESCRIPTION:  \nFor information: brightspiritswellness@outlook.com
URL:https://northgeorgiaopen.net/event/y12sr-the-yoga-of-12-step-recovery/2025-10-23/
LOCATION:Rivers of Peace Recovery Community\, 166 Josh Hall Rd #4\, Blue Ridge\, GA\, 30513\, United States
ORGANIZER;CN="Rivers of Peace Recovery Community":MAILTO:Brightspiritswellness@outlook.com
END:VEVENT
BEGIN:VEVENT
DTSTART;TZID=America/New_York:20251016T190000
DTEND;TZID=America/New_York:20251016T203000
DTSTAMP:20260420T044517
CREATED:20241031T165029Z
LAST-MODIFIED:20241031T165029Z
UID:10000111-1760641200-1760646600@northgeorgiaopen.net
SUMMARY:Y12SR - The Yoga of 12-Step Recovery
DESCRIPTION:  \nFor information: brightspiritswellness@outlook.com
URL:https://northgeorgiaopen.net/event/y12sr-the-yoga-of-12-step-recovery/2025-10-16/
LOCATION:Rivers of Peace Recovery Community\, 166 Josh Hall Rd #4\, Blue Ridge\, GA\, 30513\, United States
ORGANIZER;CN="Rivers of Peace Recovery Community":MAILTO:Brightspiritswellness@outlook.com
END:VEVENT
BEGIN:VEVENT
DTSTART;TZID=America/New_York:20251009T190000
DTEND;TZID=America/New_York:20251009T203000
DTSTAMP:20260420T044517
CREATED:20241031T165029Z
LAST-MODIFIED:20241031T165029Z
UID:10000110-1760036400-1760041800@northgeorgiaopen.net
SUMMARY:Y12SR - The Yoga of 12-Step Recovery
DESCRIPTION:  \nFor information: brightspiritswellness@outlook.com
URL:https://northgeorgiaopen.net/event/y12sr-the-yoga-of-12-step-recovery/2025-10-09/
LOCATION:Rivers of Peace Recovery Community\, 166 Josh Hall Rd #4\, Blue Ridge\, GA\, 30513\, United States
ORGANIZER;CN="Rivers of Peace Recovery Community":MAILTO:Brightspiritswellness@outlook.com
END:VEVENT
BEGIN:VEVENT
DTSTART;TZID=America/New_York:20251002T190000
DTEND;TZID=America/New_York:20251002T203000
DTSTAMP:20260420T044517
CREATED:20241031T165029Z
LAST-MODIFIED:20241031T165029Z
UID:10000109-1759431600-1759437000@northgeorgiaopen.net
SUMMARY:Y12SR - The Yoga of 12-Step Recovery
DESCRIPTION:  \nFor information: brightspiritswellness@outlook.com
URL:https://northgeorgiaopen.net/event/y12sr-the-yoga-of-12-step-recovery/2025-10-02/
LOCATION:Rivers of Peace Recovery Community\, 166 Josh Hall Rd #4\, Blue Ridge\, GA\, 30513\, United States
ORGANIZER;CN="Rivers of Peace Recovery Community":MAILTO:Brightspiritswellness@outlook.com
END:VEVENT
BEGIN:VEVENT
DTSTART;TZID=America/New_York:20250925T190000
DTEND;TZID=America/New_York:20250925T203000
DTSTAMP:20260420T044517
CREATED:20241031T165029Z
LAST-MODIFIED:20241031T165029Z
UID:10000108-1758826800-1758832200@northgeorgiaopen.net
SUMMARY:Y12SR - The Yoga of 12-Step Recovery
DESCRIPTION:  \nFor information: brightspiritswellness@outlook.com
URL:https://northgeorgiaopen.net/event/y12sr-the-yoga-of-12-step-recovery/2025-09-25/
LOCATION:Rivers of Peace Recovery Community\, 166 Josh Hall Rd #4\, Blue Ridge\, GA\, 30513\, United States
ORGANIZER;CN="Rivers of Peace Recovery Community":MAILTO:Brightspiritswellness@outlook.com
END:VEVENT
BEGIN:VEVENT
DTSTART;TZID=America/New_York:20250918T190000
DTEND;TZID=America/New_York:20250918T203000
DTSTAMP:20260420T044517
CREATED:20241031T165029Z
LAST-MODIFIED:20241031T165029Z
UID:10000107-1758222000-1758227400@northgeorgiaopen.net
SUMMARY:Y12SR - The Yoga of 12-Step Recovery
DESCRIPTION:  \nFor information: brightspiritswellness@outlook.com
URL:https://northgeorgiaopen.net/event/y12sr-the-yoga-of-12-step-recovery/2025-09-18/
LOCATION:Rivers of Peace Recovery Community\, 166 Josh Hall Rd #4\, Blue Ridge\, GA\, 30513\, United States
ORGANIZER;CN="Rivers of Peace Recovery Community":MAILTO:Brightspiritswellness@outlook.com
END:VEVENT
BEGIN:VEVENT
DTSTART;TZID=America/New_York:20250911T190000
DTEND;TZID=America/New_York:20250911T203000
DTSTAMP:20260420T044517
CREATED:20241031T165029Z
LAST-MODIFIED:20241031T165029Z
UID:10000106-1757617200-1757622600@northgeorgiaopen.net
SUMMARY:Y12SR - The Yoga of 12-Step Recovery
DESCRIPTION:  \nFor information: brightspiritswellness@outlook.com
URL:https://northgeorgiaopen.net/event/y12sr-the-yoga-of-12-step-recovery/2025-09-11/
LOCATION:Rivers of Peace Recovery Community\, 166 Josh Hall Rd #4\, Blue Ridge\, GA\, 30513\, United States
ORGANIZER;CN="Rivers of Peace Recovery Community":MAILTO:Brightspiritswellness@outlook.com
END:VEVENT
BEGIN:VEVENT
DTSTART;TZID=America/New_York:20250904T190000
DTEND;TZID=America/New_York:20250904T203000
DTSTAMP:20260420T044517
CREATED:20241031T165029Z
LAST-MODIFIED:20241031T165029Z
UID:10000105-1757012400-1757017800@northgeorgiaopen.net
SUMMARY:Y12SR - The Yoga of 12-Step Recovery
DESCRIPTION:  \nFor information: brightspiritswellness@outlook.com
URL:https://northgeorgiaopen.net/event/y12sr-the-yoga-of-12-step-recovery/2025-09-04/
LOCATION:Rivers of Peace Recovery Community\, 166 Josh Hall Rd #4\, Blue Ridge\, GA\, 30513\, United States
ORGANIZER;CN="Rivers of Peace Recovery Community":MAILTO:Brightspiritswellness@outlook.com
END:VEVENT
BEGIN:VEVENT
DTSTART;TZID=America/New_York:20250828T190000
DTEND;TZID=America/New_York:20250828T203000
DTSTAMP:20260420T044517
CREATED:20241031T165029Z
LAST-MODIFIED:20241031T165029Z
UID:10000104-1756407600-1756413000@northgeorgiaopen.net
SUMMARY:Y12SR - The Yoga of 12-Step Recovery
DESCRIPTION:  \nFor information: brightspiritswellness@outlook.com
URL:https://northgeorgiaopen.net/event/y12sr-the-yoga-of-12-step-recovery/2025-08-28/
LOCATION:Rivers of Peace Recovery Community\, 166 Josh Hall Rd #4\, Blue Ridge\, GA\, 30513\, United States
ORGANIZER;CN="Rivers of Peace Recovery Community":MAILTO:Brightspiritswellness@outlook.com
END:VEVENT
BEGIN:VEVENT
DTSTART;TZID=America/New_York:20250821T190000
DTEND;TZID=America/New_York:20250821T203000
DTSTAMP:20260420T044517
CREATED:20241031T165029Z
LAST-MODIFIED:20241031T165029Z
UID:10000103-1755802800-1755808200@northgeorgiaopen.net
SUMMARY:Y12SR - The Yoga of 12-Step Recovery
DESCRIPTION:  \nFor information: brightspiritswellness@outlook.com
URL:https://northgeorgiaopen.net/event/y12sr-the-yoga-of-12-step-recovery/2025-08-21/
LOCATION:Rivers of Peace Recovery Community\, 166 Josh Hall Rd #4\, Blue Ridge\, GA\, 30513\, United States
ORGANIZER;CN="Rivers of Peace Recovery Community":MAILTO:Brightspiritswellness@outlook.com
END:VEVENT
BEGIN:VEVENT
DTSTART;TZID=America/New_York:20250814T190000
DTEND;TZID=America/New_York:20250814T203000
DTSTAMP:20260420T044517
CREATED:20241031T165029Z
LAST-MODIFIED:20241031T165029Z
UID:10000102-1755198000-1755203400@northgeorgiaopen.net
SUMMARY:Y12SR - The Yoga of 12-Step Recovery
DESCRIPTION:  \nFor information: brightspiritswellness@outlook.com
URL:https://northgeorgiaopen.net/event/y12sr-the-yoga-of-12-step-recovery/2025-08-14/
LOCATION:Rivers of Peace Recovery Community\, 166 Josh Hall Rd #4\, Blue Ridge\, GA\, 30513\, United States
ORGANIZER;CN="Rivers of Peace Recovery Community":MAILTO:Brightspiritswellness@outlook.com
END:VEVENT
BEGIN:VEVENT
DTSTART;TZID=America/New_York:20250807T190000
DTEND;TZID=America/New_York:20250807T203000
DTSTAMP:20260420T044517
CREATED:20241031T165029Z
LAST-MODIFIED:20241031T165029Z
UID:10000101-1754593200-1754598600@northgeorgiaopen.net
SUMMARY:Y12SR - The Yoga of 12-Step Recovery
DESCRIPTION:  \nFor information: brightspiritswellness@outlook.com
URL:https://northgeorgiaopen.net/event/y12sr-the-yoga-of-12-step-recovery/2025-08-07/
LOCATION:Rivers of Peace Recovery Community\, 166 Josh Hall Rd #4\, Blue Ridge\, GA\, 30513\, United States
ORGANIZER;CN="Rivers of Peace Recovery Community":MAILTO:Brightspiritswellness@outlook.com
END:VEVENT
BEGIN:VEVENT
DTSTART;TZID=America/New_York:20250731T190000
DTEND;TZID=America/New_York:20250731T203000
DTSTAMP:20260420T044517
CREATED:20241031T165029Z
LAST-MODIFIED:20241031T165029Z
UID:10000100-1753988400-1753993800@northgeorgiaopen.net
SUMMARY:Y12SR - The Yoga of 12-Step Recovery
DESCRIPTION:  \nFor information: brightspiritswellness@outlook.com
URL:https://northgeorgiaopen.net/event/y12sr-the-yoga-of-12-step-recovery/2025-07-31/
LOCATION:Rivers of Peace Recovery Community\, 166 Josh Hall Rd #4\, Blue Ridge\, GA\, 30513\, United States
ORGANIZER;CN="Rivers of Peace Recovery Community":MAILTO:Brightspiritswellness@outlook.com
END:VEVENT
BEGIN:VEVENT
DTSTART;TZID=America/New_York:20250724T190000
DTEND;TZID=America/New_York:20250724T203000
DTSTAMP:20260420T044517
CREATED:20241031T165029Z
LAST-MODIFIED:20241031T165029Z
UID:10000099-1753383600-1753389000@northgeorgiaopen.net
SUMMARY:Y12SR - The Yoga of 12-Step Recovery
DESCRIPTION:  \nFor information: brightspiritswellness@outlook.com
URL:https://northgeorgiaopen.net/event/y12sr-the-yoga-of-12-step-recovery/2025-07-24/
LOCATION:Rivers of Peace Recovery Community\, 166 Josh Hall Rd #4\, Blue Ridge\, GA\, 30513\, United States
ORGANIZER;CN="Rivers of Peace Recovery Community":MAILTO:Brightspiritswellness@outlook.com
END:VEVENT
BEGIN:VEVENT
DTSTART;TZID=America/New_York:20250717T190000
DTEND;TZID=America/New_York:20250717T203000
DTSTAMP:20260420T044517
CREATED:20241031T165029Z
LAST-MODIFIED:20241031T165029Z
UID:10000098-1752778800-1752784200@northgeorgiaopen.net
SUMMARY:Y12SR - The Yoga of 12-Step Recovery
DESCRIPTION:  \nFor information: brightspiritswellness@outlook.com
URL:https://northgeorgiaopen.net/event/y12sr-the-yoga-of-12-step-recovery/2025-07-17/
LOCATION:Rivers of Peace Recovery Community\, 166 Josh Hall Rd #4\, Blue Ridge\, GA\, 30513\, United States
ORGANIZER;CN="Rivers of Peace Recovery Community":MAILTO:Brightspiritswellness@outlook.com
END:VEVENT
BEGIN:VEVENT
DTSTART;TZID=America/New_York:20250710T190000
DTEND;TZID=America/New_York:20250710T203000
DTSTAMP:20260420T044517
CREATED:20241031T165029Z
LAST-MODIFIED:20241031T165029Z
UID:10000097-1752174000-1752179400@northgeorgiaopen.net
SUMMARY:Y12SR - The Yoga of 12-Step Recovery
DESCRIPTION:  \nFor information: brightspiritswellness@outlook.com
URL:https://northgeorgiaopen.net/event/y12sr-the-yoga-of-12-step-recovery/2025-07-10/
LOCATION:Rivers of Peace Recovery Community\, 166 Josh Hall Rd #4\, Blue Ridge\, GA\, 30513\, United States
ORGANIZER;CN="Rivers of Peace Recovery Community":MAILTO:Brightspiritswellness@outlook.com
END:VEVENT
BEGIN:VEVENT
DTSTART;TZID=America/New_York:20250703T190000
DTEND;TZID=America/New_York:20250703T203000
DTSTAMP:20260420T044517
CREATED:20241031T165029Z
LAST-MODIFIED:20241031T165029Z
UID:10000096-1751569200-1751574600@northgeorgiaopen.net
SUMMARY:Y12SR - The Yoga of 12-Step Recovery
DESCRIPTION:  \nFor information: brightspiritswellness@outlook.com
URL:https://northgeorgiaopen.net/event/y12sr-the-yoga-of-12-step-recovery/2025-07-03/
LOCATION:Rivers of Peace Recovery Community\, 166 Josh Hall Rd #4\, Blue Ridge\, GA\, 30513\, United States
ORGANIZER;CN="Rivers of Peace Recovery Community":MAILTO:Brightspiritswellness@outlook.com
END:VEVENT
END:VCALENDAR